BEGIN:VCALENDAR
VERSION:2.0
PRODID:icalendar-ruby
CALSCALE:GREGORIAN
METHOD:PUBLISH
BEGIN:VEVENT
DTSTAMP:20260423T050627Z
UID:8-257614@crossbridgeny.org
DTSTART:20261018T150000Z
DTEND:20261018T163000Z
CLASS:PUBLIC
CREATED:20260422T225248
DESCRIPTION:
LAST-MODIFIED:20260422T225248
LOCATION:Main Auditorium
SUMMARY:Worship Gathering
URL;VALUE=URI:https://www.crossbridgeny.org/events/worship-gathering--7/202
 6-10-18
END:VEVENT
END:VCALENDAR
