BEGIN:VCALENDAR
VERSION:2.0
PRODID:icalendar-ruby
CALSCALE:GREGORIAN
METHOD:PUBLISH
BEGIN:VEVENT
DTSTAMP:20260423T083033Z
UID:8-257616@crossbridgeny.org
DTSTART:20261101T160000Z
DTEND:20261101T173000Z
CLASS:PUBLIC
CREATED:20260422T225248
DESCRIPTION:
LAST-MODIFIED:20260422T225248
LOCATION:Main Auditorium
SUMMARY:Worship Gathering
URL;VALUE=URI:https://www.crossbridgeny.org/events/worship-gathering--7/202
 6-11-01
END:VEVENT
END:VCALENDAR
